BEGIN:VCALENDAR
VERSION:2.0
PRODID:-//Theta - ECPv6.10.1.1//NONSGML v1.0//EN
CALSCALE:GREGORIAN
METHOD:PUBLISH
X-WR-CALNAME:Theta
X-ORIGINAL-URL:https://theta.inner-code.hr
X-WR-CALDESC:Događaji za Theta
REFRESH-INTERVAL;VALUE=DURATION:PT1H
X-Robots-Tag:noindex
X-PUBLISHED-TTL:PT1H
BEGIN:VTIMEZONE
TZID:Europe/Paris
BEGIN:DAYLIGHT
TZOFFSETFROM:+0100
TZOFFSETTO:+0200
TZNAME:CEST
DTSTART:20220327T010000
END:DAYLIGHT
BEGIN:STANDARD
TZOFFSETFROM:+0200
TZOFFSETTO:+0100
TZNAME:CET
DTSTART:20221030T010000
END:STANDARD
END:VTIMEZONE
BEGIN:VEVENT
DTSTART;VALUE=DATE:20221127
DTEND;VALUE=DATE:20221128
DTSTAMP:20260425T154957
CREATED:20221127T122237Z
LAST-MODIFIED:20221127T122237Z
UID:17982-1669507200-1669593599@theta.inner-code.hr
SUMMARY:Objavljen novi web
DESCRIPTION:Objavljen novi web
URL:https://theta.inner-code.hr/event/objavljen-novi-web/
END:VEVENT
END:VCALENDAR